BEGIN:VCALENDAR
VERSION:2.0
PRODID:-//https://www.trenthamgolfclub.co.nz//NONSGML kigkonsult.se iCalcreator 2.41.71//
CALSCALE:GREGORIAN
METHOD:PUBLISH
UID:62343962-3833-4962-a631-383166363437
X-WR-CALNAME:JCal Pro Calendar
X-WR-CALDESC:Your online events calendar
X-WR-TIMEZONE:Pacific/Auckland
BEGIN:VTIMEZONE
TZID:Pacific/Auckland
TZUNTIL:20280401T140000Z
BEGIN:STANDARD
TZNAME:NZST
DTSTART:20260405T030000
TZOFFSETFROM:+1300
TZOFFSETTO:+1200
RDATE:20270404T030000
END:STANDARD
BEGIN:DAYLIGHT
TZNAME:NZDT
DTSTART:20250928T020000
TZOFFSETFROM:+1200
TZOFFSETTO:+1300
RDATE:20260927T020000
RDATE:20270926T020000
END:DAYLIGHT
END:VTIMEZONE
BEGIN:VEVENT
UID:20180302T080000NZDT-5394rd2lhT@https://www.trenthamgolfclub.co.nz/
DTSTAMP:20260423T085145Z
CATEGORIES:Friday Golf Club
DTSTART;TZID=Pacific/Auckland:20180302T210000
DTEND;TZID=Pacific/Auckland:20180302T210000
SUMMARY:Friday Golf
URL:https://www.trenthamgolfclub.co.nz/event-calendar/17-friday-golf-club/1
 444-friday-golf
END:VEVENT
BEGIN:VEVENT
UID:20180303T090000NZDT-6119Jbjuzg@https://www.trenthamgolfclub.co.nz/
DTSTAMP:20260423T085145Z
CATEGORIES:Interclub
DTSTART;TZID=Pacific/Auckland:20180303T220000
DTEND;TZID=Pacific/Auckland:20180303T220000
SUMMARY:Interclub Div 3 RD4 Wainui V Trentham - Div 8 RD4 Wainui V Trentham
URL:https://www.trenthamgolfclub.co.nz/event-calendar/27-interclub/1446-int
 erclub-div-3-rd4-wainui-v-trentham-div-8-rd4-wainui-v-trentham
END:VEVENT
BEGIN:VEVENT
UID:20180303T100000NZDT-3805KM3Ou2@https://www.trenthamgolfclub.co.nz/
DTSTAMP:20260423T085145Z
CATEGORIES:Social Group
DTSTART;TZID=Pacific/Auckland:20180303T230000
DTEND;TZID=Pacific/Auckland:20180303T230000
SUMMARY:IRHACE Tournament - Tee-off multiple tees
URL:https://www.trenthamgolfclub.co.nz/event-calendar/26-social-group/1447-
 irhace-tournament-tee-off-multiple-tees
END:VEVENT
BEGIN:VEVENT
UID:20180304T080000NZDT-0907ZLXF8S@https://www.trenthamgolfclub.co.nz/
DTSTAMP:20260423T085145Z
CATEGORIES:Sunday Club Day
DTSTART;TZID=Pacific/Auckland:20180304T210000
DTEND;TZID=Pacific/Auckland:20180304T210000
SUMMARY:Sunday Club Day - Captains Trophy RD3 - Rest Medal
URL:https://www.trenthamgolfclub.co.nz/event-calendar/18-sunday-club-day/14
 48-sunday-club-day-captains-trophy-rd3-rest-medal
END:VEVENT
BEGIN:VEVENT
UID:20180306T083000NZDT-0386reSaBC@https://www.trenthamgolfclub.co.nz/
DTSTAMP:20260423T085145Z
CATEGORIES:Midweek Club Day
DTSTART;TZID=Pacific/Auckland:20180306T213000
DTEND;TZID=Pacific/Auckland:20180306T213000
SUMMARY:Midweek - Bisque Par
URL:https://www.trenthamgolfclub.co.nz/event-calendar/15-midweek-club-day/1
 449-midweek-bisque-par
END:VEVENT
BEGIN:VEVENT
UID:20180306T100000NZDT-89937mVMSN@https://www.trenthamgolfclub.co.nz/
DTSTAMP:20260423T085145Z
CATEGORIES:Course Maintenance
DTSTART;TZID=Pacific/Auckland:20180306T000000
DTEND;TZID=Pacific/Auckland:20180306T235959
SUMMARY:Course closed for maintenance after Midweek Tee-off
URL:https://www.trenthamgolfclub.co.nz/event-calendar/29-course-maintenance
 /1471-course-closed-for-maintenance-after-midweek-tee-off
END:VEVENT
BEGIN:VEVENT
UID:20180307T010000NZDT-2395XHziLS@https://www.trenthamgolfclub.co.nz/
DTSTAMP:20260423T085145Z
CATEGORIES:Course Maintenance
DTSTART;TZID=Pacific/Auckland:20180307T000000
DTEND;TZID=Pacific/Auckland:20180307T235959
SUMMARY:Course closed for maintenance
URL:https://www.trenthamgolfclub.co.nz/event-calendar/29-course-maintenance
 /1472-course-closed-for-maintenance
END:VEVENT
BEGIN:VEVENT
UID:20180308T010000NZDT-71072CxvjW@https://www.trenthamgolfclub.co.nz/
DTSTAMP:20260423T085145Z
CATEGORIES:Course Maintenance
DTSTART;TZID=Pacific/Auckland:20180308T000000
DTEND;TZID=Pacific/Auckland:20180308T235959
SUMMARY:Course closed for maintenance
URL:https://www.trenthamgolfclub.co.nz/event-calendar/29-course-maintenance
 /1473-course-closed-for-maintenance
END:VEVENT
BEGIN:VEVENT
UID:20180309T010000NZDT-3925DOjJN0@https://www.trenthamgolfclub.co.nz/
DTSTAMP:20260423T085145Z
CATEGORIES:Course Maintenance
DTSTART;TZID=Pacific/Auckland:20180309T140000
DTEND;TZID=Pacific/Auckland:20180310T053000
SUMMARY:Course closed for maintenance but available for twilight competitio
 n
URL:https://www.trenthamgolfclub.co.nz/event-calendar/29-course-maintenance
 /1474-course-closed-for-maintenance-but-available-for-twilight-competition
END:VEVENT
BEGIN:VEVENT
UID:20180310T090000NZDT-349188C9aA@https://www.trenthamgolfclub.co.nz/
DTSTAMP:20260423T085145Z
CATEGORIES:Interclub
DTSTART;TZID=Pacific/Auckland:20180310T220000
DTEND;TZID=Pacific/Auckland:20180310T220000
SUMMARY:Interclub  Div 3 RD5 Manor Park V Trentham - Div 8  RD5 Trentham V 
 Waikanae - Mashie RD2 V Boulcott @ Ohariu
URL:https://www.trenthamgolfclub.co.nz/event-calendar/27-interclub/1452-int
 erclub-div-3-rd5-manor-park-v-trentham-div-8-rd5-trentham-v-waikanae-mashi
 e-rd2-v-boulcott-ohariu
END:VEVENT
BEGIN:VEVENT
UID:20180311T080000NZDT-6731ENUiFL@https://www.trenthamgolfclub.co.nz/
DTSTAMP:20260423T085145Z
CATEGORIES:Sunday Club Day
DTSTART;TZID=Pacific/Auckland:20180311T210000
DTEND;TZID=Pacific/Auckland:20180311T210000
SUMMARY:Sunday Club Day - Captains Trophy Final - Rest Par
URL:https://www.trenthamgolfclub.co.nz/event-calendar/18-sunday-club-day/14
 53-sunday-club-day-captains-trophy-final-rest-par
END:VEVENT
BEGIN:VEVENT
UID:20180313T083000NZDT-8179L1EM2M@https://www.trenthamgolfclub.co.nz/
DTSTAMP:20260423T085145Z
CATEGORIES:Midweek Club Day
DTSTART;TZID=Pacific/Auckland:20180313T213000
DTEND;TZID=Pacific/Auckland:20180313T213000
SUMMARY:Midweek - Kevin Fenton Trophy Medal
URL:https://www.trenthamgolfclub.co.nz/event-calendar/15-midweek-club-day/1
 454-midweek-kevin-fenton-trophy-medal
END:VEVENT
BEGIN:VEVENT
UID:20180316T080000NZDT-7673OxXuEp@https://www.trenthamgolfclub.co.nz/
DTSTAMP:20260423T085145Z
CATEGORIES:Friday Golf Club
DTSTART;TZID=Pacific/Auckland:20180316T210000
DTEND;TZID=Pacific/Auckland:20180316T210000
SUMMARY:Friday Golf
URL:https://www.trenthamgolfclub.co.nz/event-calendar/17-friday-golf-club/1
 455-friday-golf
END:VEVENT
BEGIN:VEVENT
UID:20180316T100000NZDT-4207hdmchS@https://www.trenthamgolfclub.co.nz/
DTSTAMP:20260423T085145Z
CATEGORIES:Social Group
DTSTART;TZID=Pacific/Auckland:20180316T230000
DTEND;TZID=Pacific/Auckland:20180316T230000
SUMMARY:Micro Plumbing Tournament
URL:https://www.trenthamgolfclub.co.nz/event-calendar/26-social-group/1457-
 micro-plumbing-tournament
END:VEVENT
BEGIN:VEVENT
UID:20180317T090000NZDT-8607kf019n@https://www.trenthamgolfclub.co.nz/
DTSTAMP:20260423T085145Z
CATEGORIES:Men's Competition
DTSTART;TZID=Pacific/Auckland:20180317T220000
DTEND;TZID=Pacific/Auckland:20180317T220000
SUMMARY:Phyl Tomlins Tournament
URL:https://www.trenthamgolfclub.co.nz/event-calendar/25-men-s-competition/
 1458-phyl-tomlins-tournament
END:VEVENT
BEGIN:VEVENT
UID:20180318T080000NZDT-6651uG3T1u@https://www.trenthamgolfclub.co.nz/
DTSTAMP:20260423T085145Z
CATEGORIES:Sunday Club Day
DTSTART;TZID=Pacific/Auckland:20180318T210000
DTEND;TZID=Pacific/Auckland:20180318T210000
SUMMARY:Sunday Club Day - Captains Trophy Reserve Day - Rest Stableford
URL:https://www.trenthamgolfclub.co.nz/event-calendar/18-sunday-club-day/14
 59-sunday-club-day-captains-trophy-reserve-day-rest-stableford
END:VEVENT
BEGIN:VEVENT
UID:20180320T083000NZDT-0766jiPR0S@https://www.trenthamgolfclub.co.nz/
DTSTAMP:20260423T085145Z
CATEGORIES:Midweek Club Day
DTSTART;TZID=Pacific/Auckland:20180320T213000
DTEND;TZID=Pacific/Auckland:20180320T213000
SUMMARY:Midweek - Nassau Stableford
URL:https://www.trenthamgolfclub.co.nz/event-calendar/15-midweek-club-day/1
 469-midweek-nassau-stableford
END:VEVENT
BEGIN:VEVENT
UID:20180322T093000NZDT-5647x99Uaz@https://www.trenthamgolfclub.co.nz/
DTSTAMP:20260423T085145Z
CATEGORIES:Interclub
DTSTART;TZID=Pacific/Auckland:20180322T223000
DTEND;TZID=Pacific/Auckland:20180322T223000
SUMMARY:Evergreens Rd 3 Trentham v Kapiti @ Manor Park
URL:https://www.trenthamgolfclub.co.nz/event-calendar/27-interclub/1461-eve
 rgreens-rd-3-trentham-v-kapiti-manor-park
END:VEVENT
BEGIN:VEVENT
UID:20180323T080000NZDT-5143ohBxtD@https://www.trenthamgolfclub.co.nz/
DTSTAMP:20260423T085145Z
CATEGORIES:Friday Golf Club
DTSTART;TZID=Pacific/Auckland:20180323T210000
DTEND;TZID=Pacific/Auckland:20180323T210000
SUMMARY:Friday Club
URL:https://www.trenthamgolfclub.co.nz/event-calendar/17-friday-golf-club/1
 463-friday-club
END:VEVENT
BEGIN:VEVENT
UID:20180324T090000NZDT-2593MULZVP@https://www.trenthamgolfclub.co.nz/
DTSTAMP:20260423T085145Z
CATEGORIES:Interclub
DTSTART;TZID=Pacific/Auckland:20180324T220000
DTEND;TZID=Pacific/Auckland:20180324T220000
SUMMARY:Interclub  Div 3 RD6 Masterton V Trentham - Div 8  RD6 Trentham V W
 ainui - Mashie RD3 V Ohariu @ Boulcott
URL:https://www.trenthamgolfclub.co.nz/event-calendar/27-interclub/1464-int
 erclub-div-3-rd6-masterton-v-trentham-div-8-rd6-trentham-v-wainui-mashie-r
 d3-v-ohariu-boulcott
END:VEVENT
BEGIN:VEVENT
UID:20180325T083000NZDT-18444DfbUl@https://www.trenthamgolfclub.co.nz/
DTSTAMP:20260423T085145Z
CATEGORIES:Sunday Club Day
DTSTART;TZID=Pacific/Auckland:20180325T213000
DTEND;TZID=Pacific/Auckland:20180325T213000
SUMMARY:Sunday Club Day - Avalon Cup mixed and men foursomes - shotgun star
 t 8:30AM
URL:https://www.trenthamgolfclub.co.nz/event-calendar/18-sunday-club-day/14
 65-sunday-club-day-avalon-cup-mixed-and-men-foursomes-shotgun-start-8-30am
END:VEVENT
BEGIN:VEVENT
UID:20180326T100000NZDT-8902uDdnkN@https://www.trenthamgolfclub.co.nz/
DTSTAMP:20260423T085145Z
CATEGORIES:Social Group
DTSTART;TZID=Pacific/Auckland:20180326T230000
DTEND;TZID=Pacific/Auckland:20180326T230000
SUMMARY:Sommerset Ambrose - Reserve Day
URL:https://www.trenthamgolfclub.co.nz/event-calendar/26-social-group/1466-
 sommerset-ambrose-reserve
END:VEVENT
BEGIN:VEVENT
UID:20180327T083000NZDT-4565fexDxV@https://www.trenthamgolfclub.co.nz/
DTSTAMP:20260423T085145Z
CATEGORIES:Midweek Club Day
DTSTART;TZID=Pacific/Auckland:20180327T213000
DTEND;TZID=Pacific/Auckland:20180327T213000
SUMMARY:Midweek - Stableford
URL:https://www.trenthamgolfclub.co.nz/event-calendar/15-midweek-club-day/1
 467-midweek-stableford
END:VEVENT
BEGIN:VEVENT
UID:20180330T010000NZDT-9808rhd30J@https://www.trenthamgolfclub.co.nz/
DTSTAMP:20260423T085145Z
CATEGORIES:Public Holiday
DTSTART;TZID=Pacific/Auckland:20180330T000000
DTEND;TZID=Pacific/Auckland:20180330T235959
SUMMARY:Good Friday
URL:https://www.trenthamgolfclub.co.nz/event-calendar/19-public-holiday/146
 8-good-friday
END:VEVENT
BEGIN:VEVENT
UID:20180331T100000NZDT-78270ZuBsZ@https://www.trenthamgolfclub.co.nz/
DTSTAMP:20260423T085145Z
CATEGORIES:Social Group
DTSTART;TZID=Pacific/Auckland:20180331T230000
DTEND;TZID=Pacific/Auckland:20180331T230000
SUMMARY:Chinese Association Tournament - Number 1 tee used between 10 and 1
 0:45
URL:https://www.trenthamgolfclub.co.nz/event-calendar/26-social-group/1475-
 chinese-association-tournament-number-1-tee-used-between-10-and-10-45
END:VEVENT
END:VCALENDAR
