BEGIN:VCALENDAR
VERSION:2.0
PRODID:-//https://www.trenthamgolfclub.co.nz//NONSGML kigkonsult.se iCalcreator 2.41.71//
CALSCALE:GREGORIAN
METHOD:PUBLISH
UID:63356161-6164-4437-b331-303430303264
X-WR-CALNAME:JCal Pro Calendar
X-WR-CALDESC:Your online events calendar
X-WR-TIMEZONE:Pacific/Auckland
BEGIN:VTIMEZONE
TZID:Pacific/Auckland
TZUNTIL:20280401T140000Z
BEGIN:STANDARD
TZNAME:NZST
DTSTART:20260405T030000
TZOFFSETFROM:+1300
TZOFFSETTO:+1200
RDATE:20270404T030000
END:STANDARD
BEGIN:DAYLIGHT
TZNAME:NZDT
DTSTART:20250928T020000
TZOFFSETFROM:+1200
TZOFFSETTO:+1300
RDATE:20260927T020000
RDATE:20270926T020000
END:DAYLIGHT
END:VTIMEZONE
BEGIN:VEVENT
UID:20171118T080000NZDT-6543bXPEZ9@https://www.trenthamgolfclub.co.nz/
DTSTAMP:20260423T133001Z
CATEGORIES:Club Event
DTSTART;TZID=Pacific/Auckland:20171118T210000
DTEND;TZID=Pacific/Auckland:20171118T210000
SUMMARY:Trentham Men's & Women's Open
URL:https://www.trenthamgolfclub.co.nz/event-calendar/28-club-event/1325-tr
 entham-men-s-women-s-open
END:VEVENT
BEGIN:VEVENT
UID:20171107T083000NZDT-80230JWmcb@https://www.trenthamgolfclub.co.nz/
DTSTAMP:20260423T133001Z
CATEGORIES:Midweek Club Day
DESCRIPTION:<p>Par</p>
DTSTART;TZID=Pacific/Auckland:20171107T213000
DTEND;TZID=Pacific/Auckland:20171107T213000
SUMMARY:Midweek
URL:https://www.trenthamgolfclub.co.nz/event-calendar/15-midweek-club-day/1
 375-midweek
X-ALT-DESC;FMTTYPE=TEXT/HTML:<p>Par</p>
END:VEVENT
BEGIN:VEVENT
UID:20171110T083000NZDT-1760GZehMi@https://www.trenthamgolfclub.co.nz/
DTSTAMP:20260423T133001Z
CATEGORIES:Friday Golf Club
DTSTART;TZID=Pacific/Auckland:20171110T213000
DTEND;TZID=Pacific/Auckland:20171110T213000
SUMMARY:Friday Golf
URL:https://www.trenthamgolfclub.co.nz/event-calendar/17-friday-golf-club/1
 383-friday-golf
END:VEVENT
BEGIN:VEVENT
UID:20171112T080000NZDT-4116SVLJvz@https://www.trenthamgolfclub.co.nz/
DTSTAMP:20260423T133001Z
CATEGORIES:Sunday Club Day
DESCRIPTION:<p>Par</p>
DTSTART;TZID=Pacific/Auckland:20171112T210000
DTEND;TZID=Pacific/Auckland:20171112T210000
SUMMARY:Sunday Club Day
URL:https://www.trenthamgolfclub.co.nz/event-calendar/18-sunday-club-day/13
 70-sunday-club-day
X-ALT-DESC;FMTTYPE=TEXT/HTML:<p>Par</p>
END:VEVENT
BEGIN:VEVENT
UID:20171113T100000NZDT-28268bDtlu@https://www.trenthamgolfclub.co.nz/
DTSTAMP:20260423T133001Z
CATEGORIES:Ladies Vets
DTSTART;TZID=Pacific/Auckland:20171113T230000
DTEND;TZID=Pacific/Auckland:20171113T230000
SUMMARY:Ladies Vets @ Miramar
URL:https://www.trenthamgolfclub.co.nz/event-calendar/31-ladies-vets/1357-l
 adies-vets-miramar
END:VEVENT
BEGIN:VEVENT
UID:20171114T083000NZDT-7887UxHh9P@https://www.trenthamgolfclub.co.nz/
DTSTAMP:20260423T133001Z
CATEGORIES:Midweek Club Day
DESCRIPTION:<p>Bisque Par</p>
DTSTART;TZID=Pacific/Auckland:20171114T213000
DTEND;TZID=Pacific/Auckland:20171114T213000
SUMMARY:Midweek
URL:https://www.trenthamgolfclub.co.nz/event-calendar/15-midweek-club-day/1
 376-midweek
X-ALT-DESC;FMTTYPE=TEXT/HTML:<p>Bisque Par</p>
END:VEVENT
BEGIN:VEVENT
UID:20171115T090000NZDT-33058xlVCi@https://www.trenthamgolfclub.co.nz/
DTSTAMP:20260423T133001Z
CATEGORIES:Social Group
DTSTART;TZID=Pacific/Auckland:20171115T220000
DTEND;TZID=Pacific/Auckland:20171115T220000
SUMMARY:College Sports 9:30
URL:https://www.trenthamgolfclub.co.nz/event-calendar/26-social-group/1358-
 college-sports-9-30
END:VEVENT
BEGIN:VEVENT
UID:20171115T120000NZDT-4270gJJUu7@https://www.trenthamgolfclub.co.nz/
DTSTAMP:20260423T133001Z
CATEGORIES:NZDF
DTSTART;TZID=Pacific/Auckland:20171116T010000
DTEND;TZID=Pacific/Auckland:20171116T020000
SUMMARY:NZDF
URL:https://www.trenthamgolfclub.co.nz/event-calendar/24-nzdf/1363-nzdf
END:VEVENT
BEGIN:VEVENT
UID:20171117T083000NZDT-76148rUSob@https://www.trenthamgolfclub.co.nz/
DTSTAMP:20260423T133001Z
CATEGORIES:Friday Golf Club
DTSTART;TZID=Pacific/Auckland:20171117T213000
DTEND;TZID=Pacific/Auckland:20171117T213000
SUMMARY:Friday Golf
URL:https://www.trenthamgolfclub.co.nz/event-calendar/17-friday-golf-club/1
 384-friday-golf
END:VEVENT
BEGIN:VEVENT
UID:20171119T080000NZDT-3379H2LLFP@https://www.trenthamgolfclub.co.nz/
DTSTAMP:20260423T133001Z
CATEGORIES:Sunday Club Day
DESCRIPTION:<p>Ambrose (4) Shotgun Start 8:30</p>
DTSTART;TZID=Pacific/Auckland:20171119T210000
DTEND;TZID=Pacific/Auckland:20171119T210000
SUMMARY:Sunday Club Day
URL:https://www.trenthamgolfclub.co.nz/event-calendar/18-sunday-club-day/13
 71-sunday-club-day
X-ALT-DESC;FMTTYPE=TEXT/HTML:<p>Ambrose (4) Shotgun Start 8:30</p>
END:VEVENT
BEGIN:VEVENT
UID:20171121T083000NZDT-6268V37Pc2@https://www.trenthamgolfclub.co.nz/
DTSTAMP:20260423T133001Z
CATEGORIES:Midweek Club Day
DESCRIPTION:<p>Medal - Aggregate &amp\; Seasonal Eclectic finishes</p>
DTSTART;TZID=Pacific/Auckland:20171121T213000
DTEND;TZID=Pacific/Auckland:20171121T213000
SUMMARY:Midweek
URL:https://www.trenthamgolfclub.co.nz/event-calendar/15-midweek-club-day/1
 378-midweek
X-ALT-DESC;FMTTYPE=TEXT/HTML:<p>Medal - Aggregate &amp\; Seasonal Eclectic 
 finishes</p>
END:VEVENT
BEGIN:VEVENT
UID:20171122T120000NZDT-4200u1RmBu@https://www.trenthamgolfclub.co.nz/
DTSTAMP:20260423T133001Z
CATEGORIES:NZDF
DTSTART;TZID=Pacific/Auckland:20171123T010000
DTEND;TZID=Pacific/Auckland:20171123T010000
SUMMARY:NZDF
URL:https://www.trenthamgolfclub.co.nz/event-calendar/24-nzdf/1364-nzdf
END:VEVENT
BEGIN:VEVENT
UID:20171124T083000NZDT-6676DCRfku@https://www.trenthamgolfclub.co.nz/
DTSTAMP:20260423T133001Z
CATEGORIES:Friday Golf Club
DTSTART;TZID=Pacific/Auckland:20171124T213000
DTEND;TZID=Pacific/Auckland:20171124T213000
SUMMARY:Friday Golf
URL:https://www.trenthamgolfclub.co.nz/event-calendar/17-friday-golf-club/1
 385-friday-golf
END:VEVENT
BEGIN:VEVENT
UID:20171124T120000NZDT-8421VrsmHG@https://www.trenthamgolfclub.co.nz/
DTSTAMP:20260423T133001Z
CATEGORIES:Social Group
DTSTART;TZID=Pacific/Auckland:20171125T010000
DTEND;TZID=Pacific/Auckland:20171125T010000
SUMMARY:Audit NZ
URL:https://www.trenthamgolfclub.co.nz/event-calendar/26-social-group/1359-
 audit-nz
END:VEVENT
BEGIN:VEVENT
UID:20171126T083000NZDT-8369tuvXhM@https://www.trenthamgolfclub.co.nz/
DTSTAMP:20260423T133001Z
CATEGORIES:Sunday Club Day
DESCRIPTION:<p>Medal - Seasonal Eclectic finishes - LGU(11) - LRM(8)</p>
DTSTART;TZID=Pacific/Auckland:20171126T213000
DTEND;TZID=Pacific/Auckland:20171126T213000
SUMMARY:Sunday Club Day
URL:https://www.trenthamgolfclub.co.nz/event-calendar/18-sunday-club-day/13
 72-sunday-club-day
X-ALT-DESC;FMTTYPE=TEXT/HTML:<p>Medal - Seasonal Eclectic finishes - LGU(11
 ) - LRM(8)</p>
END:VEVENT
BEGIN:VEVENT
UID:20171128T083000NZDT-5413Hm1wnJ@https://www.trenthamgolfclub.co.nz/
DTSTAMP:20260423T133001Z
CATEGORIES:Midweek Club Day
DESCRIPTION:<p>Stableford</p>
DTSTART;TZID=Pacific/Auckland:20171128T213000
DTEND;TZID=Pacific/Auckland:20171128T213000
SUMMARY:Midweek
URL:https://www.trenthamgolfclub.co.nz/event-calendar/15-midweek-club-day/1
 379-midweek
X-ALT-DESC;FMTTYPE=TEXT/HTML:<p>Stableford</p>
END:VEVENT
BEGIN:VEVENT
UID:20171129T120000NZDT-9454CZ8UEe@https://www.trenthamgolfclub.co.nz/
DTSTAMP:20260423T133001Z
CATEGORIES:NZDF
DTSTART;TZID=Pacific/Auckland:20171130T010000
DTEND;TZID=Pacific/Auckland:20171130T010000
SUMMARY:NZDF
URL:https://www.trenthamgolfclub.co.nz/event-calendar/24-nzdf/1365-nzdf
END:VEVENT
END:VCALENDAR
