BEGIN:VCALENDAR
VERSION:2.0
PRODID:-//https://www.trenthamgolfclub.co.nz//NONSGML kigkonsult.se iCalcreator 2.41.71//
CALSCALE:GREGORIAN
METHOD:PUBLISH
UID:35666433-3636-4739-a664-386332366535
X-WR-CALNAME:JCal Pro Calendar
X-WR-CALDESC:Your online events calendar
X-WR-TIMEZONE:Pacific/Auckland
BEGIN:VTIMEZONE
TZID:Pacific/Auckland
TZUNTIL:20280401T140000Z
BEGIN:STANDARD
TZNAME:NZST
DTSTART:20260405T030000
TZOFFSETFROM:+1300
TZOFFSETTO:+1200
RDATE:20270404T030000
END:STANDARD
BEGIN:DAYLIGHT
TZNAME:NZDT
DTSTART:20250928T020000
TZOFFSETFROM:+1200
TZOFFSETTO:+1300
RDATE:20260927T020000
RDATE:20270926T020000
END:DAYLIGHT
END:VTIMEZONE
BEGIN:VEVENT
UID:20190714T090000NZST-8464NLWCsR@https://www.trenthamgolfclub.co.nz/
DTSTAMP:20260423T085223Z
CATEGORIES:Sunday Club Day
DTSTART;TZID=Pacific/Auckland:20190714T210000
DTEND;TZID=Pacific/Auckland:20190714T220000
SUMMARY:Sunday Club Day - Shotgun start at 9AM - Men's Stableford Plate and
  Ladies Stableford Cup
URL:https://www.trenthamgolfclub.co.nz/event-calendar/18-sunday-club-day/18
 19-sunday-club-day-shotgun-start-at-9am-men-s-stableford-plate-and-ladies-
 stableford-cup
END:VEVENT
BEGIN:VEVENT
UID:20190716T083000NZST-18122ZWShu@https://www.trenthamgolfclub.co.nz/
DTSTAMP:20260423T085223Z
CATEGORIES:Midweek Club Day
DTSTART;TZID=Pacific/Auckland:20190716T203000
DTEND;TZID=Pacific/Auckland:20190716T203000
SUMMARY:Midweek - Medal
URL:https://www.trenthamgolfclub.co.nz/event-calendar/15-midweek-club-day/1
 820-midweek-medal
END:VEVENT
BEGIN:VEVENT
UID:20190719T083000NZST-9286xHZHVH@https://www.trenthamgolfclub.co.nz/
DTSTAMP:20260423T085223Z
CATEGORIES:Friday Golf Club
DTSTART;TZID=Pacific/Auckland:20190719T203000
DTEND;TZID=Pacific/Auckland:20190719T203000
SUMMARY:Friday Golf
URL:https://www.trenthamgolfclub.co.nz/event-calendar/17-friday-golf-club/1
 821-friday-golf
END:VEVENT
END:VCALENDAR
