BEGIN:VCALENDAR
VERSION:2.0
PRODID:-//https://www.trenthamgolfclub.co.nz//NONSGML kigkonsult.se iCalcreator 2.41.71//
CALSCALE:GREGORIAN
METHOD:PUBLISH
UID:64313438-3163-4965-b430-663964313735
X-WR-CALNAME:JCal Pro Calendar
X-WR-CALDESC:Your online events calendar
X-WR-TIMEZONE:Pacific/Auckland
BEGIN:VTIMEZONE
TZID:Pacific/Auckland
TZUNTIL:20280401T140000Z
BEGIN:STANDARD
TZNAME:NZST
DTSTART:20260405T030000
TZOFFSETFROM:+1300
TZOFFSETTO:+1200
RDATE:20270404T030000
END:STANDARD
BEGIN:DAYLIGHT
TZNAME:NZDT
DTSTART:20250928T020000
TZOFFSETFROM:+1200
TZOFFSETTO:+1300
RDATE:20260927T020000
RDATE:20270926T020000
END:DAYLIGHT
END:VTIMEZONE
BEGIN:VEVENT
UID:20180902T073000NZST-2670wDWtWS@https://www.trenthamgolfclub.co.nz/
DTSTAMP:20260423T132741Z
CATEGORIES:Sunday Club Day
DTSTART;TZID=Pacific/Auckland:20180902T193000
DTEND;TZID=Pacific/Auckland:20180902T193000
SUMMARY:Sunday Club Day - Reserve day President Trophy - Medal
URL:https://www.trenthamgolfclub.co.nz/event-calendar/18-sunday-club-day/15
 67-sunday-club-day-reserve-day-president-trophy-medal
END:VEVENT
BEGIN:VEVENT
UID:20180904T083000NZST-3975PVDidv@https://www.trenthamgolfclub.co.nz/
DTSTAMP:20260423T132741Z
CATEGORIES:Midweek Club Day
DTSTART;TZID=Pacific/Auckland:20180904T203000
DTEND;TZID=Pacific/Auckland:20180904T203000
SUMMARY:Midweek - Stableford
URL:https://www.trenthamgolfclub.co.nz/event-calendar/15-midweek-club-day/1
 568-midweek-stableford
END:VEVENT
BEGIN:VEVENT
UID:20180907T083000NZST-11244ZFvme@https://www.trenthamgolfclub.co.nz/
DTSTAMP:20260423T132741Z
CATEGORIES:Friday Golf Club
DTSTART;TZID=Pacific/Auckland:20180907T203000
DTEND;TZID=Pacific/Auckland:20180907T213000
SUMMARY:Friday Golf
URL:https://www.trenthamgolfclub.co.nz/event-calendar/17-friday-golf-club/1
 572-friday-golf
END:VEVENT
END:VCALENDAR
