BEGIN:VCALENDAR
VERSION:2.0
PRODID:-//https://www.trenthamgolfclub.co.nz//NONSGML kigkonsult.se iCalcreator 2.41.71//
CALSCALE:GREGORIAN
METHOD:PUBLISH
UID:31383464-6136-4362-a233-363861613863
X-WR-CALNAME:JCal Pro Calendar
X-WR-CALDESC:Your online events calendar
X-WR-TIMEZONE:Pacific/Auckland
BEGIN:VTIMEZONE
TZID:Pacific/Auckland
TZUNTIL:20280401T140000Z
BEGIN:STANDARD
TZNAME:NZST
DTSTART:20260405T030000
TZOFFSETFROM:+1300
TZOFFSETTO:+1200
RDATE:20270404T030000
END:STANDARD
BEGIN:DAYLIGHT
TZNAME:NZDT
DTSTART:20250928T020000
TZOFFSETFROM:+1200
TZOFFSETTO:+1300
RDATE:20260927T020000
RDATE:20270926T020000
END:DAYLIGHT
END:VTIMEZONE
BEGIN:VEVENT
UID:20180819T080000NZST-9896U8TklO@https://www.trenthamgolfclub.co.nz/
DTSTAMP:20260423T101527Z
CATEGORIES:Sunday Club Day
DTSTART;TZID=Pacific/Auckland:20180819T200000
DTEND;TZID=Pacific/Auckland:20180819T200000
SUMMARY:Sunday Club Day - Presidents Trophy RD 3 - Rest Medal
URL:https://www.trenthamgolfclub.co.nz/event-calendar/18-sunday-club-day/15
 59-sunday-club-day-presidents-trophy-rd-3-rest-medal
END:VEVENT
BEGIN:VEVENT
UID:20180820T100000NZST-8185HuRKHS@https://www.trenthamgolfclub.co.nz/
DTSTAMP:20260423T101527Z
CATEGORIES:Ladies Competition
DTSTART;TZID=Pacific/Auckland:20180820T220000
DTEND;TZID=Pacific/Auckland:20180820T220000
SUMMARY:Ladies Vets @ Boulcotts Farm
URL:https://www.trenthamgolfclub.co.nz/event-calendar/22-ladies-competition
 /1560-ladies-vets-boulcotts-farm
END:VEVENT
BEGIN:VEVENT
UID:20180821T083000NZST-4745ZbuT0P@https://www.trenthamgolfclub.co.nz/
DTSTAMP:20260423T101527Z
CATEGORIES:Midweek Club Day
DTSTART;TZID=Pacific/Auckland:20180821T203000
DTEND;TZID=Pacific/Auckland:20180821T203000
SUMMARY:Midweek - Stableford
URL:https://www.trenthamgolfclub.co.nz/event-calendar/15-midweek-club-day/1
 561-midweek-stableford
END:VEVENT
BEGIN:VEVENT
UID:20180824T083000NZST-60368wZ10l@https://www.trenthamgolfclub.co.nz/
DTSTAMP:20260423T101527Z
CATEGORIES:Friday Golf Club
DTSTART;TZID=Pacific/Auckland:20180824T203000
DTEND;TZID=Pacific/Auckland:20180824T203000
SUMMARY:Friday Golf
URL:https://www.trenthamgolfclub.co.nz/event-calendar/17-friday-golf-club/1
 562-friday-golf
END:VEVENT
END:VCALENDAR
