BEGIN:VCALENDAR
VERSION:2.0
PRODID:-//https://www.trenthamgolfclub.co.nz//NONSGML kigkonsult.se iCalcreator 2.41.71//
CALSCALE:GREGORIAN
METHOD:PUBLISH
UID:65396431-6362-4037-b231-343330663137
X-WR-CALNAME:JCal Pro Calendar
X-WR-CALDESC:Your online events calendar
X-WR-TIMEZONE:Pacific/Auckland
BEGIN:VTIMEZONE
TZID:Pacific/Auckland
TZUNTIL:20280401T140000Z
BEGIN:STANDARD
TZNAME:NZST
DTSTART:20260405T030000
TZOFFSETFROM:+1300
TZOFFSETTO:+1200
RDATE:20270404T030000
END:STANDARD
BEGIN:DAYLIGHT
TZNAME:NZDT
DTSTART:20250928T020000
TZOFFSETFROM:+1200
TZOFFSETTO:+1300
RDATE:20260927T020000
RDATE:20270926T020000
END:DAYLIGHT
END:VTIMEZONE
BEGIN:VEVENT
UID:20180805T080000NZST-7548bFfieN@https://www.trenthamgolfclub.co.nz/
DTSTAMP:20260423T101556Z
CATEGORIES:Sunday Club Day
DTSTART;TZID=Pacific/Auckland:20180805T200000
DTEND;TZID=Pacific/Auckland:20180805T200000
SUMMARY:Sunday Club Day Presidents Trophy RD 1 - Rest Stableford - LGU(7) -
  LRM(5)
URL:https://www.trenthamgolfclub.co.nz/event-calendar/18-sunday-club-day/15
 52-sunday-club-day-presidents-trophy-rd-1-rest-stableford-lgu-7-lrm-5
END:VEVENT
BEGIN:VEVENT
UID:20180807T083000NZST-1095v0CpBb@https://www.trenthamgolfclub.co.nz/
DTSTAMP:20260423T101556Z
CATEGORIES:Midweek Club Day
DTSTART;TZID=Pacific/Auckland:20180807T203000
DTEND;TZID=Pacific/Auckland:20180807T203000
SUMMARY:Midweek - Medal
URL:https://www.trenthamgolfclub.co.nz/event-calendar/15-midweek-club-day/1
 553-midweek-medal
END:VEVENT
BEGIN:VEVENT
UID:20180810T083000NZST-7962zpV88w@https://www.trenthamgolfclub.co.nz/
DTSTAMP:20260423T101556Z
CATEGORIES:Friday Golf Club
DTSTART;TZID=Pacific/Auckland:20180810T203000
DTEND;TZID=Pacific/Auckland:20180810T203000
SUMMARY:Friday Golf
URL:https://www.trenthamgolfclub.co.nz/event-calendar/17-friday-golf-club/1
 554-friday-golf
END:VEVENT
END:VCALENDAR
