BEGIN:VCALENDAR
VERSION:2.0
PRODID:-//https://www.trenthamgolfclub.co.nz//NONSGML kigkonsult.se iCalcreator 2.41.71//
CALSCALE:GREGORIAN
METHOD:PUBLISH
UID:32306339-3264-4333-a237-343535633233
X-WR-CALNAME:JCal Pro Calendar
X-WR-CALDESC:Your online events calendar
X-WR-TIMEZONE:Pacific/Auckland
BEGIN:VTIMEZONE
TZID:Pacific/Auckland
TZUNTIL:20280401T140000Z
BEGIN:STANDARD
TZNAME:NZST
DTSTART:20260405T030000
TZOFFSETFROM:+1300
TZOFFSETTO:+1200
RDATE:20270404T030000
END:STANDARD
BEGIN:DAYLIGHT
TZNAME:NZDT
DTSTART:20250928T020000
TZOFFSETFROM:+1200
TZOFFSETTO:+1300
RDATE:20260927T020000
RDATE:20270926T020000
END:DAYLIGHT
END:VTIMEZONE
BEGIN:VEVENT
UID:20180408T080000NZST-5692NSNdJ0@https://www.trenthamgolfclub.co.nz/
DTSTAMP:20260423T101557Z
CATEGORIES:Sunday Club Day
DTSTART;TZID=Pacific/Auckland:20180408T200000
DTEND;TZID=Pacific/Auckland:20180408T200000
SUMMARY:Stroke play and qualifying club champs RD1 - Rest medal LGU(3) - Pu
 tting(3) - LRM(1) - Ladies Home Links
URL:https://www.trenthamgolfclub.co.nz/event-calendar/18-sunday-club-day/14
 81-stroke-play-and-qualifying-club-champs-rd1-rest-medal-lgu-3-putting-3-l
 rm-1-ladies-home-links
END:VEVENT
BEGIN:VEVENT
UID:20180409T203000NZST-8145vu1Ivu@https://www.trenthamgolfclub.co.nz/
DTSTAMP:20260423T101557Z
CATEGORIES:Midweek Club Day
DTSTART;TZID=Pacific/Auckland:20180410T083000
DTEND;TZID=Pacific/Auckland:20180410T083000
SUMMARY:Midweek - Par
URL:https://www.trenthamgolfclub.co.nz/event-calendar/15-midweek-club-day/1
 482-midweek-par
END:VEVENT
BEGIN:VEVENT
UID:20180413T203000NZST-1169c7mleW@https://www.trenthamgolfclub.co.nz/
DTSTAMP:20260423T101557Z
CATEGORIES:Friday Golf Club
DTSTART;TZID=Pacific/Auckland:20180414T083000
DTEND;TZID=Pacific/Auckland:20180414T083000
SUMMARY:Friday Golf
URL:https://www.trenthamgolfclub.co.nz/event-calendar/17-friday-golf-club/1
 483-friday-golf
END:VEVENT
BEGIN:VEVENT
UID:20180414T083000NZST-19193kX44r@https://www.trenthamgolfclub.co.nz/
DTSTAMP:20260423T101557Z
CATEGORIES:Interclub
DTSTART;TZID=Pacific/Auckland:20180414T203000
DTEND;TZID=Pacific/Auckland:20180414T203000
SUMMARY:Interclub Div 3 RD7 Trentham V Manor Park - Div 8 RD7 Trentham V Ma
 nor Park
URL:https://www.trenthamgolfclub.co.nz/event-calendar/27-interclub/1484-int
 erclub-div-3-rd7-trentham-v-manor-park-div-8-rd7-trentham-v-manor-park
END:VEVENT
END:VCALENDAR
