BEGIN:VCALENDAR
VERSION:2.0
PRODID:-//https://www.trenthamgolfclub.co.nz//NONSGML kigkonsult.se iCalcreator 2.41.71//
CALSCALE:GREGORIAN
METHOD:PUBLISH
UID:30346135-6634-4766-b132-343162353136
X-WR-CALNAME:JCal Pro Calendar
X-WR-CALDESC:Your online events calendar
X-WR-TIMEZONE:Pacific/Auckland
BEGIN:VTIMEZONE
TZID:Pacific/Auckland
TZUNTIL:20280401T140000Z
BEGIN:STANDARD
TZNAME:NZST
DTSTART:20260405T030000
TZOFFSETFROM:+1300
TZOFFSETTO:+1200
RDATE:20270404T030000
END:STANDARD
BEGIN:DAYLIGHT
TZNAME:NZDT
DTSTART:20250928T020000
TZOFFSETFROM:+1200
TZOFFSETTO:+1300
RDATE:20260927T020000
RDATE:20270926T020000
END:DAYLIGHT
END:VTIMEZONE
BEGIN:VEVENT
UID:20180401T080000NZST-1525mMUc9x@https://www.trenthamgolfclub.co.nz/
DTSTAMP:20260423T085143Z
CATEGORIES:Sunday Club Day
DTSTART;TZID=Pacific/Auckland:20180401T200000
DTEND;TZID=Pacific/Auckland:20180401T200000
SUMMARY:Easter Sunday - Daylight Savings ends Stableford
URL:https://www.trenthamgolfclub.co.nz/event-calendar/18-sunday-club-day/14
 76-easter-sunday-daylight-savings-ends-stableford
END:VEVENT
BEGIN:VEVENT
UID:20180402T080000NZST-6404NiNb75@https://www.trenthamgolfclub.co.nz/
DTSTAMP:20260423T085143Z
CATEGORIES:Social Group
DTSTART;TZID=Pacific/Auckland:20180402T200000
DTEND;TZID=Pacific/Auckland:20180402T200000
SUMMARY:Easter Monday - Annual Allsorts Easter Hunt Invitational Classic - 
 Shotgun start 8:00AM
URL:https://www.trenthamgolfclub.co.nz/event-calendar/26-social-group/1477-
 easter-monday-annual-allsorts-easter-hunt-invitational-classic-shotgun-sta
 rt-8-00am
END:VEVENT
BEGIN:VEVENT
UID:20180403T083000NZST-20302UiHuH@https://www.trenthamgolfclub.co.nz/
DTSTAMP:20260423T085143Z
CATEGORIES:Midweek Club Day
DTSTART;TZID=Pacific/Auckland:20180403T203000
DTEND;TZID=Pacific/Auckland:20180403T203000
SUMMARY:Midweek - Medal
URL:https://www.trenthamgolfclub.co.nz/event-calendar/15-midweek-club-day/1
 478-midweek-medal
END:VEVENT
BEGIN:VEVENT
UID:20180406T083000NZST-3813b2En3C@https://www.trenthamgolfclub.co.nz/
DTSTAMP:20260423T085143Z
CATEGORIES:Friday Golf Club
DTSTART;TZID=Pacific/Auckland:20180406T203000
DTEND;TZID=Pacific/Auckland:20180406T203000
SUMMARY:Friday Club
URL:https://www.trenthamgolfclub.co.nz/event-calendar/17-friday-golf-club/1
 479-friday-club
END:VEVENT
BEGIN:VEVENT
UID:20180407T100000NZST-4653E7miTO@https://www.trenthamgolfclub.co.nz/
DTSTAMP:20260423T085143Z
CATEGORIES:Interclub
DTSTART;TZID=Pacific/Auckland:20180407T220000
DTEND;TZID=Pacific/Auckland:20180407T220000
SUMMARY:Mashie RD4 v Boulcott @ Te Marua
URL:https://www.trenthamgolfclub.co.nz/event-calendar/27-interclub/1480-mas
 hie-rd4-v-boulcott-te-marua
END:VEVENT
END:VCALENDAR
