BEGIN:VCALENDAR
VERSION:2.0
PRODID:-//https://www.trenthamgolfclub.co.nz//NONSGML kigkonsult.se iCalcreator 2.41.71//
CALSCALE:GREGORIAN
METHOD:PUBLISH
UID:35336431-6338-4362-a331-396536333336
X-WR-CALNAME:JCal Pro Calendar
X-WR-CALDESC:Your online events calendar
X-WR-TIMEZONE:Pacific/Auckland
BEGIN:VTIMEZONE
TZID:Pacific/Auckland
TZUNTIL:20280401T140000Z
BEGIN:STANDARD
TZNAME:NZST
DTSTART:20260405T030000
TZOFFSETFROM:+1300
TZOFFSETTO:+1200
RDATE:20270404T030000
END:STANDARD
BEGIN:DAYLIGHT
TZNAME:NZDT
DTSTART:20250928T020000
TZOFFSETFROM:+1200
TZOFFSETTO:+1300
RDATE:20260927T020000
RDATE:20270926T020000
END:DAYLIGHT
END:VTIMEZONE
BEGIN:VEVENT
UID:20260627T080000UTC-2683db1tVN@https://www.trenthamgolfclub.co.nz/
DTSTAMP:20260423T133431Z
CATEGORIES:Club Event
DTSTART;TZID=Pacific/Auckland:20260627T080000
DTEND;TZID=Pacific/Auckland:20260627T100000
SUMMARY:MENS CLUB CHAMPS - ROUND 3 (SEMI FINALS PER DIVISION) - COURSE CLOS
 ED TO PUBLIC UNTIL 10AM
URL:https://www.trenthamgolfclub.co.nz/event-calendar/28-club-event/3498-me
 ns-club-champs-round-3-semi-finals-per-division-course-open-to-public-from
 -10am
END:VEVENT
END:VCALENDAR
