BEGIN:VCALENDAR
VERSION:2.0
PRODID:-//https://www.trenthamgolfclub.co.nz//NONSGML kigkonsult.se iCalcreator 2.41.71//
CALSCALE:GREGORIAN
METHOD:PUBLISH
UID:30633461-3231-4465-a461-386136646365
X-WR-CALNAME:JCal Pro Calendar
X-WR-CALDESC:Your online events calendar
X-WR-TIMEZONE:Pacific/Auckland
BEGIN:VTIMEZONE
TZID:Pacific/Auckland
TZUNTIL:20280401T140000Z
BEGIN:STANDARD
TZNAME:NZST
DTSTART:20260405T030000
TZOFFSETFROM:+1300
TZOFFSETTO:+1200
RDATE:20270404T030000
END:STANDARD
BEGIN:DAYLIGHT
TZNAME:NZDT
DTSTART:20250928T020000
TZOFFSETFROM:+1200
TZOFFSETTO:+1300
RDATE:20260927T020000
RDATE:20270926T020000
END:DAYLIGHT
END:VTIMEZONE
BEGIN:VEVENT
UID:20260606T070000UTC-3595sovwt9@https://www.trenthamgolfclub.co.nz/
DTSTAMP:20260425T115914Z
CATEGORIES:Social Group
DTSTART;TZID=Pacific/Auckland:20260606T070000
DTEND;TZID=Pacific/Auckland:20260606T080000
SUMMARY:SAMOAN INDEPENDENCE TOURNAMENT - COURSE CLOSED UNTIL 1PM
URL:https://www.trenthamgolfclub.co.nz/event-calendar/26-social-group/3495-
 samoan-independence-tournament-course-closed-until-1pm
END:VEVENT
END:VCALENDAR
