BEGIN:VCALENDAR
VERSION:2.0
PRODID:-//https://www.trenthamgolfclub.co.nz//NONSGML kigkonsult.se iCalcreator 2.41.71//
CALSCALE:GREGORIAN
METHOD:PUBLISH
UID:33643366-3637-4138-a565-346331333466
X-WR-CALNAME:JCal Pro Calendar
X-WR-CALDESC:Your online events calendar
X-WR-TIMEZONE:Pacific/Auckland
BEGIN:VTIMEZONE
TZID:Pacific/Auckland
TZUNTIL:20280401T140000Z
BEGIN:STANDARD
TZNAME:NZST
DTSTART:20260405T030000
TZOFFSETFROM:+1300
TZOFFSETTO:+1200
RDATE:20270404T030000
END:STANDARD
BEGIN:DAYLIGHT
TZNAME:NZDT
DTSTART:20250928T020000
TZOFFSETFROM:+1200
TZOFFSETTO:+1300
RDATE:20260927T020000
RDATE:20270926T020000
END:DAYLIGHT
END:VTIMEZONE
BEGIN:VEVENT
UID:20260214T083000UTC-1167VjmoMD@https://www.trenthamgolfclub.co.nz/
DTSTAMP:20260425T135446Z
CATEGORIES:Social Group
DESCRIPTION:<p>Tee Times from 8:30 to 9:30 from #1</p>
DTSTART;TZID=Pacific/Auckland:20260214T083000
DTEND;TZID=Pacific/Auckland:20260214T093000
SUMMARY:Quinns Post Group
URL:https://www.trenthamgolfclub.co.nz/event-calendar/26-social-group/3475-
 quinns-post-group
X-ALT-DESC;FMTTYPE=TEXT/HTML:<p>Tee Times from 8:30 to 9:30 from #1</p>
END:VEVENT
END:VCALENDAR
