BEGIN:VCALENDAR
VERSION:2.0
PRODID:-//https://www.trenthamgolfclub.co.nz//NONSGML kigkonsult.se iCalcreator 2.41.71//
CALSCALE:GREGORIAN
METHOD:PUBLISH
UID:65373535-6662-4138-b734-386363356463
X-WR-CALNAME:JCal Pro Calendar
X-WR-CALDESC:Your online events calendar
X-WR-TIMEZONE:Pacific/Auckland
BEGIN:VTIMEZONE
TZID:Pacific/Auckland
TZUNTIL:20280401T140000Z
BEGIN:STANDARD
TZNAME:NZST
DTSTART:20260405T030000
TZOFFSETFROM:+1300
TZOFFSETTO:+1200
RDATE:20270404T030000
END:STANDARD
BEGIN:DAYLIGHT
TZNAME:NZDT
DTSTART:20250928T020000
TZOFFSETFROM:+1200
TZOFFSETTO:+1300
RDATE:20260927T020000
RDATE:20270926T020000
END:DAYLIGHT
END:VTIMEZONE
BEGIN:VEVENT
UID:20260122T080000UTC-30593oMv9u@https://www.trenthamgolfclub.co.nz/
DTSTAMP:20260425T121622Z
CATEGORIES:Interclub
DTSTART;TZID=Pacific/Auckland:20260131T080000
DTEND;TZID=Pacific/Auckland:20260131T090000
SUMMARY:Interclub: Div 11 vs Manor Park
URL:https://www.trenthamgolfclub.co.nz/event-calendar/27-interclub/3473-int
 erclub-div-11-vs-manor-park
END:VEVENT
END:VCALENDAR
