BEGIN:VCALENDAR
VERSION:2.0
PRODID:-//https://www.trenthamgolfclub.co.nz//NONSGML kigkonsult.se iCalcreator 2.41.71//
CALSCALE:GREGORIAN
METHOD:PUBLISH
UID:32313837-3636-4864-b635-393566323033
X-WR-CALNAME:JCal Pro Calendar
X-WR-CALDESC:Your online events calendar
X-WR-TIMEZONE:Pacific/Auckland
BEGIN:VTIMEZONE
TZID:Pacific/Auckland
TZUNTIL:20280401T140000Z
BEGIN:STANDARD
TZNAME:NZST
DTSTART:20260405T030000
TZOFFSETFROM:+1300
TZOFFSETTO:+1200
RDATE:20270404T030000
END:STANDARD
BEGIN:DAYLIGHT
TZNAME:NZDT
DTSTART:20250928T020000
TZOFFSETFROM:+1200
TZOFFSETTO:+1300
RDATE:20260927T020000
RDATE:20270926T020000
END:DAYLIGHT
END:VTIMEZONE
BEGIN:VEVENT
UID:20250913T083000UTC-0950NjzjtG@https://www.trenthamgolfclub.co.nz/
DTSTAMP:20260423T132821Z
CATEGORIES:Club Event
DESCRIPTION:<p>LADIES SHOOTOUT TROPHY: Nett - Matchplay knockouts</p>\n<p>M
 ENS SHOOTOUT TROPHY: GROSS &amp\; NETT Match play knockouts</p>
DTSTART;TZID=Pacific/Auckland:20250823T083000
DTEND;TZID=Pacific/Auckland:20250823T093000
SUMMARY:Mens & Ladies Shootout Qualifying: 7:30 to 9:00 Tees
URL:https://www.trenthamgolfclub.co.nz/event-calendar/28-club-event/3238-me
 ns-ladies-shootout-qualifying
X-ALT-DESC;FMTTYPE=TEXT/HTML:<p>LADIES SHOOTOUT TROPHY: Nett - Matchplay kn
 ockouts</p>\n<p>MENS SHOOTOUT TROPHY: GROSS &amp\; NETT Match play knockou
 ts</p>
END:VEVENT
END:VCALENDAR
