BEGIN:VCALENDAR
VERSION:2.0
PRODID:-//https://www.trenthamgolfclub.co.nz//NONSGML kigkonsult.se iCalcreator 2.41.71//
CALSCALE:GREGORIAN
METHOD:PUBLISH
UID:37326666-6462-4231-b835-626538343737
X-WR-CALNAME:JCal Pro Calendar
X-WR-CALDESC:Your online events calendar
X-WR-TIMEZONE:Pacific/Auckland
BEGIN:VTIMEZONE
TZID:Pacific/Auckland
TZUNTIL:20280401T140000Z
BEGIN:STANDARD
TZNAME:NZST
DTSTART:20260405T030000
TZOFFSETFROM:+1300
TZOFFSETTO:+1200
RDATE:20270404T030000
END:STANDARD
BEGIN:DAYLIGHT
TZNAME:NZDT
DTSTART:20250928T020000
TZOFFSETFROM:+1200
TZOFFSETTO:+1300
RDATE:20260927T020000
RDATE:20270926T020000
END:DAYLIGHT
END:VTIMEZONE
BEGIN:VEVENT
UID:20181028T083000NZDT-2816lHXnEw@https://www.trenthamgolfclub.co.nz/
DTSTAMP:20260425T122958Z
CATEGORIES:Sunday Club Day
DTSTART;TZID=Pacific/Auckland:20181028T213000
DTEND;TZID=Pacific/Auckland:20181028T213000
SUMMARY:Sunday Club Day - shotgun start 8:30am - Medal
URL:https://www.trenthamgolfclub.co.nz/event-calendar/18-sunday-club-day/16
 01-sunday-club-day-shotgun-start-8-30am-medal
END:VEVENT
END:VCALENDAR
