BEGIN:VCALENDAR
VERSION:2.0
PRODID:-//https://www.trenthamgolfclub.co.nz//NONSGML kigkonsult.se iCalcreator 2.41.71//
CALSCALE:GREGORIAN
METHOD:PUBLISH
UID:31626638-3264-4536-b033-613635366164
X-WR-CALNAME:JCal Pro Calendar
X-WR-CALDESC:Your online events calendar
X-WR-TIMEZONE:Pacific/Auckland
BEGIN:VTIMEZONE
TZID:Pacific/Auckland
TZUNTIL:20280401T140000Z
BEGIN:STANDARD
TZNAME:NZST
DTSTART:20260405T030000
TZOFFSETFROM:+1300
TZOFFSETTO:+1200
RDATE:20270404T030000
END:STANDARD
BEGIN:DAYLIGHT
TZNAME:NZDT
DTSTART:20250928T020000
TZOFFSETFROM:+1200
TZOFFSETTO:+1300
RDATE:20260927T020000
RDATE:20270926T020000
END:DAYLIGHT
END:VTIMEZONE
BEGIN:VEVENT
UID:20180402T080000NZST-6404NiNb75@https://www.trenthamgolfclub.co.nz/
DTSTAMP:20260423T085247Z
CATEGORIES:Social Group
DTSTART;TZID=Pacific/Auckland:20180402T200000
DTEND;TZID=Pacific/Auckland:20180402T200000
SUMMARY:Easter Monday - Annual Allsorts Easter Hunt Invitational Classic - 
 Shotgun start 8:00AM
URL:https://www.trenthamgolfclub.co.nz/event-calendar/26-social-group/1477-
 easter-monday-annual-allsorts-easter-hunt-invitational-classic-shotgun-sta
 rt-8-00am
END:VEVENT
END:VCALENDAR
