BEGIN:VCALENDAR
VERSION:2.0
PRODID:-//https://www.trenthamgolfclub.co.nz//NONSGML kigkonsult.se iCalcreator 2.41.71//
CALSCALE:GREGORIAN
METHOD:PUBLISH
UID:30333764-3432-4566-b639-613566353964
X-WR-CALNAME:JCal Pro Calendar
X-WR-CALDESC:Your online events calendar
X-WR-TIMEZONE:Pacific/Auckland
BEGIN:VTIMEZONE
TZID:Pacific/Auckland
TZUNTIL:20280401T140000Z
BEGIN:STANDARD
TZNAME:NZST
DTSTART:20260405T030000
TZOFFSETFROM:+1300
TZOFFSETTO:+1200
RDATE:20270404T030000
END:STANDARD
BEGIN:DAYLIGHT
TZNAME:NZDT
DTSTART:20250928T020000
TZOFFSETFROM:+1200
TZOFFSETTO:+1300
RDATE:20260927T020000
RDATE:20270926T020000
END:DAYLIGHT
END:VTIMEZONE
BEGIN:VEVENT
UID:20180317T090000NZDT-8607kf019n@https://www.trenthamgolfclub.co.nz/
DTSTAMP:20260423T102422Z
CATEGORIES:Men's Competition
DTSTART;TZID=Pacific/Auckland:20180317T220000
DTEND;TZID=Pacific/Auckland:20180317T220000
SUMMARY:Phyl Tomlins Tournament
URL:https://www.trenthamgolfclub.co.nz/event-calendar/25-men-s-competition/
 1458-phyl-tomlins-tournament
END:VEVENT
END:VCALENDAR
