BEGIN:VCALENDAR
VERSION:2.0
PRODID:-//https://www.trenthamgolfclub.co.nz//NONSGML kigkonsult.se iCalcreator 2.41.71//
CALSCALE:GREGORIAN
METHOD:PUBLISH
UID:38623762-3933-4835-a562-353039363333
X-WR-CALNAME:JCal Pro Calendar
X-WR-CALDESC:Your online events calendar
X-WR-TIMEZONE:Pacific/Auckland
BEGIN:VTIMEZONE
TZID:Pacific/Auckland
TZUNTIL:20280401T140000Z
BEGIN:STANDARD
TZNAME:NZST
DTSTART:20260405T030000
TZOFFSETFROM:+1300
TZOFFSETTO:+1200
RDATE:20270404T030000
END:STANDARD
BEGIN:DAYLIGHT
TZNAME:NZDT
DTSTART:20250928T020000
TZOFFSETFROM:+1200
TZOFFSETTO:+1300
RDATE:20260927T020000
RDATE:20270926T020000
END:DAYLIGHT
END:VTIMEZONE
BEGIN:VEVENT
UID:20180309T010000NZDT-3925DOjJN0@https://www.trenthamgolfclub.co.nz/
DTSTAMP:20260423T102425Z
CATEGORIES:Course Maintenance
DTSTART;TZID=Pacific/Auckland:20180309T140000
DTEND;TZID=Pacific/Auckland:20180310T053000
SUMMARY:Course closed for maintenance but available for twilight competitio
 n
URL:https://www.trenthamgolfclub.co.nz/event-calendar/29-course-maintenance
 /1474-course-closed-for-maintenance-but-available-for-twilight-competition
END:VEVENT
BEGIN:VEVENT
UID:20180310T090000NZDT-349188C9aA@https://www.trenthamgolfclub.co.nz/
DTSTAMP:20260423T102425Z
CATEGORIES:Interclub
DTSTART;TZID=Pacific/Auckland:20180310T220000
DTEND;TZID=Pacific/Auckland:20180310T220000
SUMMARY:Interclub  Div 3 RD5 Manor Park V Trentham - Div 8  RD5 Trentham V 
 Waikanae - Mashie RD2 V Boulcott @ Ohariu
URL:https://www.trenthamgolfclub.co.nz/event-calendar/27-interclub/1452-int
 erclub-div-3-rd5-manor-park-v-trentham-div-8-rd5-trentham-v-waikanae-mashi
 e-rd2-v-boulcott-ohariu
END:VEVENT
END:VCALENDAR
