BEGIN:VCALENDAR
VERSION:2.0
PRODID:-//https://www.trenthamgolfclub.co.nz//NONSGML kigkonsult.se iCalcreator 2.41.71//
CALSCALE:GREGORIAN
METHOD:PUBLISH
UID:64663930-3933-4530-b938-636632393731
X-WR-CALNAME:JCal Pro Calendar
X-WR-CALDESC:Your online events calendar
X-WR-TIMEZONE:Pacific/Auckland
BEGIN:VTIMEZONE
TZID:Pacific/Auckland
TZUNTIL:20280401T140000Z
BEGIN:STANDARD
TZNAME:NZST
DTSTART:20260405T030000
TZOFFSETFROM:+1300
TZOFFSETTO:+1200
RDATE:20270404T030000
END:STANDARD
BEGIN:DAYLIGHT
TZNAME:NZDT
DTSTART:20250928T020000
TZOFFSETFROM:+1200
TZOFFSETTO:+1300
RDATE:20260927T020000
RDATE:20270926T020000
END:DAYLIGHT
END:VTIMEZONE
BEGIN:VEVENT
UID:20180222T100000NZDT-811805G1aU@https://www.trenthamgolfclub.co.nz/
DTSTAMP:20260421T102319Z
CATEGORIES:Interclub
DTSTART;TZID=Pacific/Auckland:20180222T000000
DTEND;TZID=Pacific/Auckland:20180222T235959
SUMMARY:Evergreens Rd 2 - Trentham Hosting
URL:https://www.trenthamgolfclub.co.nz/event-calendar/27-interclub/1438-eve
 rgreens-rd-2-trentham-hosting
END:VEVENT
BEGIN:VEVENT
UID:20180222T100000NZDT-7831nV15nl@https://www.trenthamgolfclub.co.nz/
DTSTAMP:20260421T102319Z
CATEGORIES:Ladies Competition
DTSTART;TZID=Pacific/Auckland:20180222T000000
DTEND;TZID=Pacific/Auckland:20180222T235959
SUMMARY:Ladies Vets @ Trentham
URL:https://www.trenthamgolfclub.co.nz/event-calendar/22-ladies-competition
 /1462-ladies-vets-trentham
END:VEVENT
END:VCALENDAR
