BEGIN:VCALENDAR
VERSION:2.0
PRODID:-//https://www.trenthamgolfclub.co.nz//NONSGML kigkonsult.se iCalcreator 2.41.71//
CALSCALE:GREGORIAN
METHOD:PUBLISH
UID:61643965-3462-4438-b735-643338636364
X-WR-CALNAME:JCal Pro Calendar
X-WR-CALDESC:Your online events calendar
X-WR-TIMEZONE:Pacific/Auckland
BEGIN:VTIMEZONE
TZID:Pacific/Auckland
TZUNTIL:20280401T140000Z
BEGIN:STANDARD
TZNAME:NZST
DTSTART:20260405T030000
TZOFFSETFROM:+1300
TZOFFSETTO:+1200
RDATE:20270404T030000
END:STANDARD
BEGIN:DAYLIGHT
TZNAME:NZDT
DTSTART:20250928T020000
TZOFFSETFROM:+1200
TZOFFSETTO:+1300
RDATE:20260927T020000
RDATE:20270926T020000
END:DAYLIGHT
END:VTIMEZONE
BEGIN:VEVENT
UID:20260116T083000UTC-1533xMiMK4@https://www.trenthamgolfclub.co.nz/
DTSTAMP:20260425T141041Z
CATEGORIES:Twilight Golf
DTSTART;TZID=Pacific/Auckland:20260129T160000
DTEND;TZID=Pacific/Auckland:20260129T170000
RRULE:FREQ=WEEKLY;UNTIL=20260325T110000Z;INTERVAL=1;BYDAY=TH
SUMMARY:Twilight - 4:00pm to 5:30pm Tees
URL:https://www.trenthamgolfclub.co.nz/event-calendar/30-twilight-golf/3324
 -twilight-4-00pm-to-5-30pm-tees
END:VEVENT
END:VCALENDAR
