BEGIN:VCALENDAR
VERSION:2.0
PRODID:-//https://www.trenthamgolfclub.co.nz//NONSGML kigkonsult.se iCalcreator 2.41.71//
CALSCALE:GREGORIAN
METHOD:PUBLISH
UID:38383133-6635-4533-b536-623565396666
X-WR-CALNAME:JCal Pro Calendar
X-WR-CALDESC:Your online events calendar
X-WR-TIMEZONE:Pacific/Auckland
BEGIN:VTIMEZONE
TZID:Pacific/Auckland
TZUNTIL:20280401T140000Z
BEGIN:STANDARD
TZNAME:NZST
DTSTART:20260405T030000
TZOFFSETFROM:+1300
TZOFFSETTO:+1200
RDATE:20270404T030000
END:STANDARD
BEGIN:DAYLIGHT
TZNAME:NZDT
DTSTART:20250928T020000
TZOFFSETFROM:+1200
TZOFFSETTO:+1300
RDATE:20260927T020000
RDATE:20270926T020000
END:DAYLIGHT
END:VTIMEZONE
BEGIN:VEVENT
UID:20260613T080000UTC-266161wnuW@https://www.trenthamgolfclub.co.nz/
DTSTAMP:20260423T115408Z
CATEGORIES:Club Event
DESCRIPTION:<p>TEE TIMES FROM 8:00AM TO 10:00AM</p>
DTSTART;TZID=Pacific/Auckland:20260613T080000
DTEND;TZID=Pacific/Auckland:20260613T100000
SUMMARY:MENS CLUB CHAMPS - ROUND 1 (TOP 16 FOR EACH DIVISION) - COURSE CLOS
 ED TO PUBLIC UNTIL 10AM
URL:https://www.trenthamgolfclub.co.nz/event-calendar/28-club-event/3496-me
 ns-club-champs-round-1-top-16-for-each-division-course-open-to-public-from
 -10am
X-ALT-DESC;FMTTYPE=TEXT/HTML:<p>TEE TIMES FROM 8:00AM TO 10:00AM</p>
END:VEVENT
END:VCALENDAR
