BEGIN:VCALENDAR
VERSION:2.0
PRODID:-//https://www.trenthamgolfclub.co.nz//NONSGML kigkonsult.se iCalcreator 2.41.71//
CALSCALE:GREGORIAN
METHOD:PUBLISH
UID:63643566-3963-4632-b764-666537656437
X-WR-CALNAME:JCal Pro Calendar
X-WR-CALDESC:Your online events calendar
X-WR-TIMEZONE:Pacific/Auckland
BEGIN:VTIMEZONE
TZID:Pacific/Auckland
TZUNTIL:20280401T140000Z
BEGIN:STANDARD
TZNAME:NZST
DTSTART:20260405T030000
TZOFFSETFROM:+1300
TZOFFSETTO:+1200
RDATE:20270404T030000
END:STANDARD
BEGIN:DAYLIGHT
TZNAME:NZDT
DTSTART:20250928T020000
TZOFFSETFROM:+1200
TZOFFSETTO:+1300
RDATE:20260927T020000
RDATE:20270926T020000
END:DAYLIGHT
END:VTIMEZONE
BEGIN:VEVENT
UID:20190608T073000NZST-8830P071Mr@https://www.trenthamgolfclub.co.nz/
DTSTAMP:20260423T133548Z
CATEGORIES:Club Event
DTSTART;TZID=Pacific/Auckland:20190608T193000
DTEND;TZID=Pacific/Auckland:20190608T193000
SUMMARY:Samoan Independence Tournament - Registration 7:30 - Course unavail
 able until 1:30pm
URL:https://www.trenthamgolfclub.co.nz/event-calendar/28-club-event/1798-sa
 moan-independence-tournament-registration-7-30-course-unavailable-until-1-
 30pm
END:VEVENT
END:VCALENDAR
