BEGIN:VCALENDAR
VERSION:2.0
PRODID:-//https://www.trenthamgolfclub.co.nz//NONSGML kigkonsult.se iCalcreator 2.41.71//
CALSCALE:GREGORIAN
METHOD:PUBLISH
UID:61636538-3565-4234-b536-376639623630
X-WR-CALNAME:JCal Pro Calendar
X-WR-CALDESC:Your online events calendar
X-WR-TIMEZONE:Pacific/Auckland
BEGIN:VTIMEZONE
TZID:Pacific/Auckland
TZUNTIL:20280401T140000Z
BEGIN:STANDARD
TZNAME:NZST
DTSTART:20260405T030000
TZOFFSETFROM:+1300
TZOFFSETTO:+1200
RDATE:20270404T030000
END:STANDARD
BEGIN:DAYLIGHT
TZNAME:NZDT
DTSTART:20250928T020000
TZOFFSETFROM:+1200
TZOFFSETTO:+1300
RDATE:20260927T020000
RDATE:20270926T020000
END:DAYLIGHT
END:VTIMEZONE
BEGIN:VEVENT
UID:20181022T073000NZDT-8945I3e6c4@https://www.trenthamgolfclub.co.nz/
DTSTAMP:20260425T103509Z
CATEGORIES:Public Holiday
DTSTART;TZID=Pacific/Auckland:20181022T203000
DTEND;TZID=Pacific/Auckland:20181022T213000
SUMMARY:Labour Day - Shop Haggle
URL:https://www.trenthamgolfclub.co.nz/event-calendar/19-public-holiday/159
 7-labour-day-shop-haggle
END:VEVENT
END:VCALENDAR
