BEGIN:VCALENDAR
VERSION:2.0
PRODID:-//https://www.trenthamgolfclub.co.nz//NONSGML kigkonsult.se iCalcreator 2.41.71//
CALSCALE:GREGORIAN
METHOD:PUBLISH
UID:30323563-6162-4966-a264-663533343563
X-WR-CALNAME:JCal Pro Calendar
X-WR-CALDESC:Your online events calendar
X-WR-TIMEZONE:Pacific/Auckland
BEGIN:VTIMEZONE
TZID:Pacific/Auckland
TZUNTIL:20280401T140000Z
BEGIN:STANDARD
TZNAME:NZST
DTSTART:20260405T030000
TZOFFSETFROM:+1300
TZOFFSETTO:+1200
RDATE:20270404T030000
END:STANDARD
BEGIN:DAYLIGHT
TZNAME:NZDT
DTSTART:20250928T020000
TZOFFSETFROM:+1200
TZOFFSETTO:+1300
RDATE:20260927T020000
RDATE:20270926T020000
END:DAYLIGHT
END:VTIMEZONE
BEGIN:VEVENT
UID:20260125T073000UTC-0179B5ndar@https://www.trenthamgolfclub.co.nz/
DTSTAMP:20260425T115537Z
CATEGORIES:Sunday Club Day
DESCRIPTION:<p>Best Mens &amp\; Ladies Stablefords on the day win Summer Cu
 p. Club tee times between 7:30am and 9:30am.</p>
DTSTART;TZID=Pacific/Auckland:20260125T073000
DTEND;TZID=Pacific/Auckland:20260125T083000
SUMMARY:Mens & Ladies Summer Cups: Best Stableford
URL:https://www.trenthamgolfclub.co.nz/event-calendar/18-sunday-club-day/34
 72-mens-ladies-summer-cups-best-stableford
X-ALT-DESC;FMTTYPE=TEXT/HTML:<p>Best Mens &amp\; Ladies Stablefords on the 
 day win Summer Cup. Club tee times between 7:30am and 9:30am.</p>
END:VEVENT
END:VCALENDAR
