BEGIN:VCALENDAR
VERSION:2.0
PRODID:-//https://www.trenthamgolfclub.co.nz//NONSGML kigkonsult.se iCalcreator 2.41.71//
CALSCALE:GREGORIAN
METHOD:PUBLISH
UID:63633031-3130-4863-a338-323935663262
X-WR-CALNAME:JCal Pro Calendar
X-WR-CALDESC:Your online events calendar
X-WR-TIMEZONE:Pacific/Auckland
BEGIN:VTIMEZONE
TZID:Pacific/Auckland
TZUNTIL:20280401T140000Z
BEGIN:STANDARD
TZNAME:NZST
DTSTART:20260405T030000
TZOFFSETFROM:+1300
TZOFFSETTO:+1200
RDATE:20270404T030000
END:STANDARD
BEGIN:DAYLIGHT
TZNAME:NZDT
DTSTART:20250928T020000
TZOFFSETFROM:+1200
TZOFFSETTO:+1300
RDATE:20260927T020000
RDATE:20270926T020000
END:DAYLIGHT
END:VTIMEZONE
BEGIN:VEVENT
UID:20250121T083000UTC-33302Z3HBW@https://www.trenthamgolfclub.co.nz/
DTSTAMP:20260423T120724Z
CATEGORIES:Midweek Club Day
CATEGORIES:Club Event
DESCRIPTION:<p><strong>CLUB CHAMPIONSHIPS:</strong> Two rounds to qualify. 
 Lowest 16 gross scores over one round qualify and format is Match play. Pr
 eliminary rounds are over 18 holes.&nbsp\;&nbsp\;</p>\n<p>Senior\, Interme
 diate\, Junior A finals: 36 Holes. Junior B Final: 18 holes.</p>\n<p>Based
  on course handicaps: Senior: 0 to 10\, Intermediate: 11 to 18\, Junior A:
  19 to 24\, Junior: B 25+.</p>
DTSTART;TZID=Pacific/Auckland:20250408T083000
DTEND;TZID=Pacific/Auckland:20250408T093000
SUMMARY:Midweek Club: 8:30 to 9:30 Tees - Club Champs R1
URL:https://www.trenthamgolfclub.co.nz/event-calendar/15-midweek-club-day/3
 110-midweek-club-8-30-to-9-30-tees
X-ALT-DESC;FMTTYPE=TEXT/HTML:<p><strong>CLUB CHAMPIONSHIPS:</strong> Two ro
 unds to qualify. Lowest 16 gross scores over one round qualify and format 
 is Match play. Preliminary rounds are over 18 holes.&nbsp\;&nbsp\;</p>\n<p
 >Senior\, Intermediate\, Junior A finals: 36 Holes. Junior B Final: 18 hol
 es.</p>\n<p>Based on course handicaps: Senior: 0 to 10\, Intermediate: 11 
 to 18\, Junior A: 19 to 24\, Junior: B 25+.</p>
END:VEVENT
END:VCALENDAR
